BEGIN:VCALENDAR
VERSION:2.0
PRODID:-//eventon.com NONSGML v1.0//EN
BEGIN:VEVENT
UID:69e8d4566f579
DTSTAMP:20260422T095950
DTSTART:20251125
DTEND:20251201
TZID:America/New_York
LOCATION:
SUMMARY:Thanksgiving Break
DESCRIPTION: Studio is CLOSED.\nhttps://didc.dance/events/thanksgiving-break-2/
URL:https://didc.dance/events/thanksgiving-break-2/
END:VEVENT
END:VCALENDAR