BEGIN:VCALENDAR
VERSION:2.0
PRODID:-//eventon.com NONSGML v1.0//EN
BEGIN:VEVENT
UID:69e8b33556358
DTSTAMP:20260422T073829
DTSTART:20251118
DTEND:20251125
TZID:America/New_York
LOCATION:
SUMMARY:Thankful Leaves
DESCRIPTION: Thankful Leaves\nhttps://didc.dance/events/thankful-leaves-2/
URL:https://didc.dance/events/thankful-leaves-2/
END:VEVENT
END:VCALENDAR