BEGIN:VCALENDAR
VERSION:2.0
PRODID:-//eventon.com NONSGML v1.0//EN
BEGIN:VEVENT
UID:69e89ba6be23c
DTSTAMP:20260422T055758
DTSTART:20251114T233000Z
DTEND:20251115T020000Z
TZID:America/New_York
LOCATION:
SUMMARY:Parent's Night Out
DESCRIPTION: https://app.jackrabbitclass.com/regevent.asp?xID=7679595&orgid=512324&%20internal=1\nhttps://didc.dance/events/parents-night-out-zombies-4/
URL:https://didc.dance/events/parents-night-out-zombies-4/
END:VEVENT
END:VCALENDAR