BEGIN:VCALENDAR
VERSION:2.0
PRODID:-//eventon.com NONSGML v1.0//EN
BEGIN:VEVENT
UID:69e88b9e49f09
DTSTAMP:20260422T044934
DTSTART:20251031
DTEND:20251101
TZID:America/New_York
LOCATION:
SUMMARY:Halloween
DESCRIPTION: Studio is CLOSED.\nhttps://didc.dance/events/halloween-2/
URL:https://didc.dance/events/halloween-2/
END:VEVENT
END:VCALENDAR