BEGIN:VCALENDAR
VERSION:2.0
PRODID:-//eventon.com NONSGML v1.0//EN
BEGIN:VEVENT
UID:69e738853eb8d
DTSTAMP:20260421T044245
DTSTART:20251013
DTEND:20251014
TZID:America/New_York
LOCATION:
SUMMARY:Indigenous People's Day
DESCRIPTION: Studio is CLOSED.\nhttps://didc.dance/events/indigenous-peoples-day/
URL:https://didc.dance/events/indigenous-peoples-day/
END:VEVENT
END:VCALENDAR