BEGIN:VCALENDAR
VERSION:2.0
PRODID:-//eventon.com NONSGML v1.0//EN
BEGIN:VEVENT
UID:69e73a3f7f508
DTSTAMP:20260421T045007
DTSTART:20250117T233000Z
DTEND:20250118T020000Z
TZID:America/New_York
LOCATION:
SUMMARY:Parents' Night Out
DESCRIPTION: https://app.jackrabbitclass.com/regevent.asp?xID=7048521&orgid=512324&%20internal=1\nhttps://didc.dance/events/parents-night-out-inside-out-2/
URL:https://didc.dance/events/parents-night-out-inside-out-2/
END:VEVENT
END:VCALENDAR