BEGIN:VCALENDAR
VERSION:2.0
PRODID:-//eventon.com NONSGML v1.0//EN
BEGIN:VEVENT
UID:69eb29f64baab
DTSTAMP:20260424T042942
DTSTART:20241115T233000Z
DTEND:20241116T020000Z
TZID:America/New_York
LOCATION:
SUMMARY:Parents' Night Out
DESCRIPTION: https://app.jackrabbitclass.com/regevent.asp?xID=7048511&orgid=512324&%20internal=1\nhttps://didc.dance/events/parents-night-out-taylor-swift-the-eras-tour/
URL:https://didc.dance/events/parents-night-out-taylor-swift-the-eras-tour/
END:VEVENT
END:VCALENDAR