BEGIN:VCALENDAR
VERSION:2.0
PRODID:-//eventon.com NONSGML v1.0//EN
BEGIN:VEVENT
UID:69e74fa96e283
DTSTAMP:20260421T062129
DTSTART:20231110T233000Z
DTEND:20231111T020000Z
TZID:America/New_York
LOCATION:
SUMMARY:Parents' Night Out
DESCRIPTION: https://app.jackrabbitclass.com/regevent.asp?xID=6332842&orgid=512324&internal=1\nhttps://didc.dance/events/parents-night-out/
URL:https://didc.dance/events/parents-night-out/
END:VEVENT
END:VCALENDAR