BEGIN:VCALENDAR
VERSION:2.0
PRODID:-//eventon.com NONSGML v1.0//EN
BEGIN:VEVENT
UID:69e765062fb9e
DTSTAMP:20260421T075238
DTSTART:20231101
DTEND:20231102
TZID:America/New_York
LOCATION:
SUMMARY:Costume Deposit
DESCRIPTION: Costume Deposit\nhttps://didc.dance/events/costume-deposit/
URL:https://didc.dance/events/costume-deposit/
END:VEVENT
END:VCALENDAR