BEGIN:VCALENDAR
VERSION:2.0
PRODID:-//eventon.com NONSGML v1.0//EN
BEGIN:VEVENT
UID:69e78c3213b81
DTSTAMP:20260421T103946
DTSTART:20231030
DTEND:20231101
TZID:America/New_York
LOCATION:
SUMMARY:Halloween
DESCRIPTION: Halloween\nhttps://didc.dance/events/halloween/
URL:https://didc.dance/events/halloween/
END:VEVENT
END:VCALENDAR