BEGIN:VCALENDAR
VERSION:2.0
PRODID:-//eventon.com NONSGML v1.0//EN
BEGIN:VEVENT
UID:69e78f7c67058
DTSTAMP:20260421T105348
DTSTART:20231028
DTEND:20231029
TZID:America/New_York
LOCATION:
SUMMARY:Trunk-Or-Treat
DESCRIPTION: Trunk-Or-Treat\nhttps://didc.dance/events/trunk-or-treat/
URL:https://didc.dance/events/trunk-or-treat/
END:VEVENT
END:VCALENDAR