BEGIN:VCALENDAR
VERSION:2.0
PRODID:-//eventon.com NONSGML v1.0//EN
BEGIN:VEVENT
UID:69e7a30f3c963
DTSTAMP:20260421T121719
DTSTART:20231020T223000Z
DTEND:20231021T010000Z
TZID:America/New_York
LOCATION:
SUMMARY:2023 Halloween Bash
DESCRIPTION: https://app.jackrabbitclass.com/regevent.asp?xID=6332488&orgid=512324&internal=1\nhttps://didc.dance/events/2023-halloween-bash/
URL:https://didc.dance/events/2023-halloween-bash/
END:VEVENT
END:VCALENDAR