BEGIN:VCALENDAR
VERSION:2.0
PRODID:-//eventon.com NONSGML v1.0//EN
BEGIN:VEVENT
UID:69e7b70d29a95
DTSTAMP:20260421T134237
DTSTART:20220514
DTEND:20220516
TZID:America/New_York
LOCATION:DIDC 64 Tide Mill Road
SUMMARY:Picture Weekend
DESCRIPTION: For more information\,  click here: https://didc.dance/recital/picture-day/\nhttps://didc.dance/events/picture-week/
URL:https://didc.dance/events/picture-week/
END:VEVENT
END:VCALENDAR