BEGIN:VCALENDAR
VERSION:2.0
PRODID:-//eventon.com NONSGML v1.0//EN
BEGIN:VEVENT
UID:69e7c8edcf07c
DTSTAMP:20260421T145853
DTSTART:20230527
DTEND:20230528
TZID:America/New_York
LOCATION:
SUMMARY:Last Day of Class
DESCRIPTION: Last Day of Class\nhttps://didc.dance/events/last-day-of-class/
URL:https://didc.dance/events/last-day-of-class/
END:VEVENT
END:VCALENDAR