BEGIN:VCALENDAR
VERSION:2.0
PRODID:-//eventon.com NONSGML v1.0//EN
BEGIN:VEVENT
UID:69e7dd9d5ee96
DTSTAMP:20260421T162709
DTSTART:20230424
DTEND:20230430
TZID:America/New_York
LOCATION:
SUMMARY:April Break - Studio CLOSED
DESCRIPTION: April Break - Studio CLOSED\nhttps://didc.dance/events/april-break-studio-closed/
URL:https://didc.dance/events/april-break-studio-closed/
END:VEVENT
END:VCALENDAR