BEGIN:VCALENDAR
VERSION:2.0
PRODID:-//eventon.com NONSGML v1.0//EN
BEGIN:VEVENT
UID:69e7f04c0e387
DTSTAMP:20260421T174652
DTSTART:20230227
DTEND:20230305
TZID:Pacific/Midway
LOCATION:
SUMMARY:February Break - Studio CLOSED
DESCRIPTION: February Break - Studio CLOSED\nhttps://didc.dance/events/february-break-studio-closed/
URL:https://didc.dance/events/february-break-studio-closed/
END:VEVENT
END:VCALENDAR